BEGIN:VCALENDAR
VERSION:2.0
PRODID:-//ChamberMaster//Event Calendar 2.0//EN
METHOD:PUBLISH
X-PUBLISHED-TTL:P3D
REFRESH-INTERVAL:P3D
CALSCALE:GREGORIAN
BEGIN:VEVENT
DTSTART:20261110T230000Z
DTEND:20261111T010000Z
X-MICROSOFT-CDO-ALLDAYEVENT:FALSE
SUMMARY:Young Professionals Sunset Social Sponsored by AJ's Seafood & Oyster Bar
DESCRIPTION:Join the Young Professionals of Destin on Tuesday\, Nov. 10\, for our Sunset Social Sponsored by AJ's Seafood & Oyster Bar!\n\n\n\nSince 1984\, AJ's Seafood and Oyster Bar has been serving cold Gulf Coast oysters and cool libations. What began as a popular local hang out known for fresh oysters and cold beer has grown into one of the most iconic "hot spots" on the Destin Harbor. Visit ajsdestin.com.\n\n\n\nEntry fee is $20 for those who are employed by a business that is a member of the Destin Chamber or $40 for non-members. Registration and prepayment is required. Attendees will enjoy a complimentary beverage and appetizers.
X-ALT-DESC;FMTTYPE=text/html:Join the Young Professionals of Destin on Tuesday\, Nov. 10\, for our Sunset Social Sponsored by AJ&#39\;s Seafood &amp\; Oyster Bar!<br />\n<br />\nSince 1984\, AJ&rsquo\;s Seafood and Oyster Bar has been serving cold Gulf Coast oysters and cool libations. What began as a popular local hang out known for fresh oysters and cold beer has grown into one of the most iconic &ldquo\;hot spots&rdquo\; on the Destin Harbor. Visit&nbsp\;<a href="https://ajsdestin.com/" target="_blank">ajsdestin.com</a>.<br />\n<br />\nEntry fee is $20 for those who are employed by a business that is a member of the Destin Chamber or $40 for non-members.&nbsp\;Registration and prepayment is required. Attendees will enjoy a complimentary beverage and appetizers.
LOCATION:AJ's Seafood & Oyster Bar 116 Harbor Blvd. Destin\, FL 32541
UID:e.2440.60331
SEQUENCE:3
DTSTAMP:20260420T051932Z
URL:https://business.destinchamber.com/events/details/young-professionals-sunset-social-sponsored-by-aj-s-seafood-oyster-bar-60331
END:VEVENT

END:VCALENDAR
