BEGIN:VCALENDAR
VERSION:2.0
PRODID:-//ChamberMaster//Event Calendar 2.0//EN
METHOD:PUBLISH
X-PUBLISHED-TTL:P3D
REFRESH-INTERVAL:P3D
CALSCALE:GREGORIAN
BEGIN:VEVENT
DTSTART:20261107T153000Z
DTEND:20261107T173000Z
X-MICROSOFT-CDO-ALLDAYEVENT:FALSE
SUMMARY:Walk to End Alzheimer's Emerald Coast
DESCRIPTION:Disclaimer: We are promoting this event on behalf of a local chamber member. This event is not managed or sponsored by the Destin Chamber.\n\n\n\nHeld annually in more than 600 communities nationwide\, the Alzheimer's Association Walk to End Alzheimer's  is the world's largest fundraiser for Alzheimer's care\, support and research. This inspiring event calls on participants of all ages and abilities to join the fight against the disease. Since 1989\, the Alzheimer's Association mobilized millions of Americans in the Alzheimer's Association Memory Walk  \; now the Alzheimer's Association is continuing to lead the way with Walk to End Alzheimer's. Alzheimer's Association Memory Walk While there is no fee to register for Walk\, all participants are encouraged to raise critical funds that allow the Alzheimer's Association to provide 24/7 care and support and advance research toward methods of prevention\, treatment and\, ultimately\, a cure.
X-ALT-DESC;FMTTYPE=text/html:<em>Disclaimer: We are promoting this event on behalf of a local chamber member. This event is not managed or sponsored by the Destin Chamber.</em><br />\n<br />\nHeld annually in more than 600 communities nationwide\, the Alzheimer&#39\;s Association Walk to End Alzheimer&#39\;s&reg\; is the world&#39\;s largest fundraiser for Alzheimer&#39\;s care\, support and research. This inspiring event calls on participants of all ages and abilities to join the fight against the disease. Since 1989\, the Alzheimer&rsquo\;s Association mobilized millions of Americans in the Alzheimer&#39\;s Association Memory Walk&reg\; \; now the Alzheimer&#39\;s Association is continuing to lead the way with Walk to End Alzheimer&#39\;s. Alzheimer&#39\;s Association Memory Walk While there is no fee to register for Walk\, all participants are encouraged to raise critical funds that allow the Alzheimer&rsquo\;s Association to provide 24/7 care and support and advance research toward methods of prevention\, treatment and\, ultimately\, a cure.
LOCATION:Grand Boulevard
UID:e.2440.60364
SEQUENCE:3
DTSTAMP:20260420T051653Z
URL:https://business.destinchamber.com/events/details/walk-to-end-alzheimer-s-emerald-coast-60364
END:VEVENT

END:VCALENDAR
