BEGIN:VCALENDAR
VERSION:2.0
PRODID:-//ChamberMaster//Event Calendar 2.0//EN
METHOD:PUBLISH
X-PUBLISHED-TTL:P3D
REFRESH-INTERVAL:P3D
CALSCALE:GREGORIAN
BEGIN:VEVENT
DTSTART:20260417T140000Z
DTEND:20260417T170000Z
X-MICROSOFT-CDO-ALLDAYEVENT:FALSE
SUMMARY:Viking Voyage Career Fair
DESCRIPTION:Disclaimer: We are promoting this event on behalf of a local chamber member. This event is not managed or sponsored by the Destin Chamber.\n\n\n\nFort Walton Beach High School is hosting the Third Annual Viking Voyage Career Fair\, Friday\, April 10\, 2026 in the gymnasium from 9 a.m. - 12 p.m.    VOYAGE stands for Vikings network with Organizations Yielding An Opportunity for Great Exploration of careers."\n\n\n\nThe mission of the event is to provide valuable opportunities to network\, explore\, and empower students to bridge school and work in various career pathways while connecting learning to the real world. \n\n\n\nWe are seeking employers\, businesses\, and alumni to participate in this exciting event.  More than 1\,500 students (grades 9th-12th) will have the opportunity to talk and connect with businesses\, learn job requirements\, and explore future job opportunities.  \n\n\n\nFor the event\, we would ask that you bring any items\, signs\, brochures\, applications\, or marketing goodies to advertise your organization.  Once businesses have emailed confirmation\, we will send details regarding parking\, set up time\, and details.  \n\n\n\nFor this special event\, we would love to have sponsor(s) to provide food/drinks for the exhibitors in our hospitality area.  If interested in providing food/drinks\, please include with your confirmation.\n\n\n\nOn behalf of Fort Walton Beach High School\, we thank you for considering this request.  If you would like to confirm your participation\, please email your commitment by March 1\, 2026 to the Viking Voyage Coordinator: Linda.Dugan@okaloosaschools.com.  If you have questions\, please feel free to contact Dr. Dugan at (850) 833-3300.  We are beyond excited for our students to connect with our businesses/organizations in our community.    \n\n\n\nSincerely\,\n\nMrs. Lindsey Smith\n\nPrincipal
X-ALT-DESC;FMTTYPE=text/html:<em>Disclaimer: We are promoting this event on behalf of a local chamber member. This event is not managed or sponsored by the Destin Chamber.</em><br />\n<br />\nFort Walton Beach High School is hosting the Third Annual Viking Voyage Career Fair\, Friday\, April 10\, 2026 in the gymnasium from 9 a.m. - 12 p.m.&nbsp\; &nbsp\; VOYAGE stands for Vikings network with Organizations Yielding An Opportunity for Great Exploration of careers.&quot\;<br />\n<br />\nThe mission of the event is to provide valuable opportunities to network\, explore\, and empower students to bridge school and work in various career pathways while connecting learning to the real world.&nbsp\;<br />\n<br />\nWe are seeking employers\, businesses\, and alumni to participate in this exciting event.&nbsp\; More than 1\,500 students (grades 9th-12th) will have the opportunity to talk and connect with businesses\, learn job requirements\, and explore future job opportunities.&nbsp\;&nbsp\;<br />\n<br />\nFor the event\, we would ask that you bring any items\, signs\, brochures\, applications\, or marketing goodies to advertise your organization.&nbsp\; Once businesses have emailed confirmation\, we will send details regarding parking\, set up time\, and details.&nbsp\;&nbsp\;<br />\n<br />\nFor this special event\, we would love to have sponsor(s) to provide food/drinks for the exhibitors in our hospitality area.&nbsp\; If interested in providing food/drinks\, please include with your confirmation.<br />\n<br />\nOn behalf of Fort Walton Beach High School\, we thank you for considering this request.&nbsp\; If you would like to confirm your participation\, please email your commitment by March 1\, 2026 to the Viking Voyage Coordinator: <a href="mailto:Linda.Dugan@okaloosaschools.com?subject=Inquiry%20from%20DestinChamber.com%20Events%20Calendar">Linda.Dugan@okaloosaschools.com</a>.&nbsp\; If you have questions\, please feel free to contact Dr. Dugan at (850) 833-3300.&nbsp\; We are beyond excited for our students to connect with our businesses/organizations in our community.&nbsp\; &nbsp\;&nbsp\;<br />\n<br />\nSincerely\,<br />\nMrs. Lindsey Smith<br />\nPrincipal
LOCATION:
UID:e.2440.60147
SEQUENCE:3
DTSTAMP:20260419T154951Z
URL:https://business.destinchamber.com/events/details/viking-voyage-career-fair-60147
END:VEVENT

END:VCALENDAR
