BEGIN:VCALENDAR
VERSION:2.0
PRODID:-//ChamberMaster//Event Calendar 2.0//EN
METHOD:PUBLISH
X-PUBLISHED-TTL:P3D
REFRESH-INTERVAL:P3D
CALSCALE:GREGORIAN
BEGIN:VEVENT
DTSTART;VALUE=DATE:20260422
DTEND;VALUE=DATE:20260424
TRANSP:TRANSPARENT
X-MICROSOFT-CDO-ALLDAYEVENT:TRUE
SUMMARY:The Power Table LIVE Conference for Women in Business
DESCRIPTION:Disclaimer: We are promoting this event on behalf of a local chamber member. This event is not managed or sponsored by the Destin Chamber.\n\n\n\nThe Power Table LIVE 2026 is a two-day business and personal branding conference for women entrepreneurs\, founders\, and creators who are ready to increase their visibility\, strengthen their brand authority\, and grow through meaningful connection. Hosted April 22 23\, 2026 on Florida's Emerald Coast at The Island Resort in Destin Fort Walton Beach\, this experience brings together 100+ women for transformational keynotes\, hands-on workshops\, and curated networking. Expect conversations that lead to collaboration\, strategy that turns into action\, and a community designed to support long-term growth. This isn't just a conference   it's where leaders are built\, brands are elevated\, and powerful relationships begin.
X-ALT-DESC;FMTTYPE=text/html:<em>Disclaimer: We are promoting this event on behalf of a local chamber member. This event is not managed or sponsored by the Destin Chamber.</em><br />\n<br />\nThe Power Table LIVE 2026 is a two-day business and personal branding conference for women entrepreneurs\, founders\, and creators who are ready to increase their visibility\, strengthen their brand authority\, and grow through meaningful connection. Hosted April 22&ndash\;23\, 2026 on Florida&rsquo\;s Emerald Coast at The Island Resort in Destin&ndash\;Fort Walton Beach\, this experience brings together 100+ women for transformational keynotes\, hands-on workshops\, and curated networking. Expect conversations that lead to collaboration\, strategy that turns into action\, and a community designed to support long-term growth. This isn&rsquo\;t just a conference &mdash\; it&rsquo\;s where leaders are built\, brands are elevated\, and powerful relationships begin.
LOCATION:The Island Resort in Fort Walton Beach
UID:e.2440.60370
SEQUENCE:3
DTSTAMP:20260419T155359Z
URL:https://business.destinchamber.com/events/details/the-power-table-live-conference-for-women-in-business-60370
END:VEVENT

END:VCALENDAR
