BEGIN:VCALENDAR
VERSION:2.0
PRODID:-//ChamberMaster//Event Calendar 2.0//EN
METHOD:PUBLISH
X-PUBLISHED-TTL:P3D
REFRESH-INTERVAL:P3D
CALSCALE:GREGORIAN
BEGIN:VEVENT
DTSTART:20221231T230000Z
DTEND:20230101T030000Z
X-MICROSOFT-CDO-ALLDAYEVENT:FALSE
SUMMARY:Primrose New Year’s Eve Dinner
DESCRIPTION:Celebrate with our special four-course menu and champagne at Primrose.
X-ALT-DESC;FMTTYPE=text/html:Celebrate with our special four-course menu and champagne at Primrose.
LOCATION:Henderson Beach Resort
UID:e.2440.50075
SEQUENCE:3
DTSTAMP:20260425T215402Z
URL:https://business.destinchamber.com/events/details/primrose-new-year-s-eve-dinner-50075
END:VEVENT

END:VCALENDAR
