BEGIN:VCALENDAR
VERSION:2.0
PRODID:-//ChamberMaster//Event Calendar 2.0//EN
METHOD:PUBLISH
X-PUBLISHED-TTL:P3D
REFRESH-INTERVAL:P3D
CALSCALE:GREGORIAN
BEGIN:VEVENT
DTSTART:20260512T140000Z
DTEND:20260512T150000Z
X-MICROSOFT-CDO-ALLDAYEVENT:FALSE
SUMMARY:Practical Marketing Strategies for Small Businesses
DESCRIPTION:Disclaimer: We are promoting this event on behalf of a local chamber member. This event is not managed or sponsored by the Destin Chamber.\n\n\n\nIn this in-person workshop\, small business owners will discover actionable marketing strategies to attract more customers\, build their brand\, and drive sales. We'll cover key topics such as identifying your target audience\, creating a compelling value proposition\, and leveraging affordable digital marketing tools like social media\, email campaigns\, and SEO. Through interactive discussions and real-world examples\, you'll leave with practical steps to effectively promote your business\, regardless of your budget or industry. Whether you're just starting out or looking to revamp your existing efforts\, this workshop is designed to equip you with the knowledge and tools to succeed.
X-ALT-DESC;FMTTYPE=text/html:<span style="font-size:16px\;"><span style="font-family:arial\;"><em>Disclaimer: We are promoting this event on behalf of a local chamber member. This event is not managed or sponsored by the Destin Chamber.</em><br />\n<br />\n<span style="color: rgba(0\, 0\, 0\, 0.87)\;">In this in-person workshop\, small business owners will discover actionable marketing strategies to attract more customers\, build their brand\, and drive sales. We&#39\;ll cover key topics such as identifying your target audience\, creating a compelling value proposition\, and leveraging affordable digital marketing tools like social media\, email campaigns\, and SEO. Through interactive discussions and real-world examples\, you&rsquo\;ll leave with practical steps to effectively promote your business\, regardless of your budget or industry. Whether you&#39\;re just starting out or looking to revamp your existing efforts\, this workshop is designed to equip you with the knowledge and tools to succeed.</span></span></span>
LOCATION:Crestview Chamber of Commerce\, 1447 Commerce Dr\, Crestview\, FL\, 32539
UID:e.2440.60765
SEQUENCE:3
DTSTAMP:20260419T173056Z
URL:https://business.destinchamber.com/events/details/practical-marketing-strategies-for-small-businesses-60765
END:VEVENT

END:VCALENDAR
