BEGIN:VCALENDAR
VERSION:2.0
PRODID:-//ChamberMaster//Event Calendar 2.0//EN
METHOD:PUBLISH
X-PUBLISHED-TTL:P3D
REFRESH-INTERVAL:P3D
CALSCALE:GREGORIAN
BEGIN:VEVENT
DTSTART:20260611T210000Z
DTEND:20260611T220000Z
X-MICROSOFT-CDO-ALLDAYEVENT:FALSE
SUMMARY:Monkee's of 30A Ribbon Cutting
DESCRIPTION:Please help us celebrate Monkee's of 30A with a ribbon cutting!\n\n\n\nOpening in the Watersound Town Center\, Monkee's is the ultimate in women's fashion. It was built on a love of fashion and grown through a focus on personal customer relationships. Visit monkees30a.com to learn more.
X-ALT-DESC;FMTTYPE=text/html:Please help us celebrate <strong>Monkee&#39\;s of 30A</strong> with a ribbon cutting!<br />\n<br />\nOpening in the Watersound Town Center\, Monkee&#39\;s is the ultimate in women&#39\;s fashion. It was built on a love of fashion and grown through a focus on personal customer relationships. Visit <a href="http://monkees30a.com" target="_blank">monkees30a.com</a> to learn more.
LOCATION:Monkee's of 30A 19 Plaza Way Ste. 102 Inlet Beach\, FL 32461
UID:e.2440.60768
SEQUENCE:3
DTSTAMP:20260419T200336Z
URL:https://business.destinchamber.com/events/details/monkee-s-of-30a-ribbon-cutting-60768
END:VEVENT

END:VCALENDAR
