BEGIN:VCALENDAR
VERSION:2.0
PRODID:-//ChamberMaster//Event Calendar 2.0//EN
METHOD:PUBLISH
X-PUBLISHED-TTL:P3D
REFRESH-INTERVAL:P3D
CALSCALE:GREGORIAN
BEGIN:VEVENT
DTSTART:20260612T160000Z
DTEND:20260612T163000Z
X-MICROSOFT-CDO-ALLDAYEVENT:FALSE
SUMMARY:Massagetopia Ribbon Cutting
DESCRIPTION:Please help us celebrate Massagetopia with a ribbon cutting!\n\n\n\nMore details on this brand new massage and yoga studio are coming soon. It is opening in June in the Summit Building located at 42 Business Center Dr. #304\, in Miramar Beach.
X-ALT-DESC;FMTTYPE=text/html:Please help us celebrate Massagetopia with a ribbon cutting!<br />\n<br />\nMore details on this brand new massage and yoga studio are coming soon. It is opening in June in the Summit Building located at 42 Business Center Dr. #304\, in Miramar Beach.
LOCATION:Massagetopia 42 Business Center Dr. #304 Miramar Beach\, FL
UID:e.2440.60758
SEQUENCE:3
DTSTAMP:20260419T192740Z
URL:https://business.destinchamber.com/events/details/massagetopia-ribbon-cutting-60758
END:VEVENT

END:VCALENDAR
