BEGIN:VCALENDAR
VERSION:2.0
PRODID:-//ChamberMaster//Event Calendar 2.0//EN
METHOD:PUBLISH
X-PUBLISHED-TTL:P3D
REFRESH-INTERVAL:P3D
CALSCALE:GREGORIAN
BEGIN:VEVENT
DTSTART:20260604T210000Z
DTEND:20260604T220000Z
X-MICROSOFT-CDO-ALLDAYEVENT:FALSE
SUMMARY:loanDepot Ribbon Cutting
DESCRIPTION:Please help us celebrate loanDepot with a ribbon cutting!\n\n\n\nThe professionals at loanDepot will walk you through every step of the loan process and support you from pre-approval through your closing date. Whether you are a first-time home buyer or a seasoned buyer\, you can trust the loanDepot team with all of your home financing needs. Visit FrankBennettHomeLoans.com to learn more.
X-ALT-DESC;FMTTYPE=text/html:Please help us celebrate loanDepot with a ribbon cutting!<br />\n<br />\nThe professionals at loanDepot will walk you through every step of the loan process and support you from pre-approval through your closing date. Whether you are a first-time home buyer or a seasoned buyer\, you can trust the loanDepot team with all of your home financing needs. Visit <a href="http://FrankBennettHomeLoans.com" target="_blank">FrankBennettHomeLoans.com</a> to learn more.
LOCATION:Destin Chamber 4484 Legendary Dr. Ste. A Destin\, FL 32541
UID:e.2440.60757
SEQUENCE:3
DTSTAMP:20260419T195404Z
URL:https://business.destinchamber.com/events/details/loandepot-ribbon-cutting-60757
END:VEVENT

END:VCALENDAR
