BEGIN:VCALENDAR
VERSION:2.0
PRODID:-//ChamberMaster//Event Calendar 2.0//EN
METHOD:PUBLISH
X-PUBLISHED-TTL:P3D
REFRESH-INTERVAL:P3D
CALSCALE:GREGORIAN
BEGIN:VEVENT
DTSTART:20260820T213000Z
DTEND:20260820T220000Z
X-MICROSOFT-CDO-ALLDAYEVENT:FALSE
SUMMARY:Hyatt House Destin Ribbon Cutting
DESCRIPTION:Please help us celebrate Hyatt House Destin with a ribbon cutting!\n\n \n\nThe Hyatt House Destin is a modern extended-stay hotel conveniently located near Destin's shopping\, golf\, restaurants and breathtaking beaches. Make yourself at home in its spacious rooms and suites with fully equipped kitchens. Enjoy free parking\, flexible meeting spaces\, a lively lounge\, and an outdoor pool. Wind down on the patio\, furnished with a grilling station and firepit\, and plan another exciting day in Destin. Visit hyatthousedestin.com to learn more.
X-ALT-DESC;FMTTYPE=text/html:Please help us celebrate <strong>Hyatt House Destin</strong> with a ribbon cutting!<br />\n&nbsp\;<br />\nThe Hyatt House Destin is a modern extended-stay hotel conveniently located near Destin&#39\;s shopping\, golf\, restaurants and breathtaking beaches. Make yourself at home in its spacious rooms and suites with fully equipped kitchens. Enjoy free parking\, flexible meeting spaces\, a lively lounge\, and an outdoor pool. Wind down on the patio\, furnished with a grilling station and firepit\, and plan another exciting day in Destin. Visit <a href="http://hyatthousedestin.com" target="_blank">hyatthousedestin.com</a> to learn more.
LOCATION:Hyatt House Destin 4406 Legendary Dr. Destin\, FL 32541
UID:e.2440.60771
SEQUENCE:3
DTSTAMP:20260419T235029Z
URL:https://business.destinchamber.com/events/details/hyatt-house-destin-ribbon-cutting-60771
END:VEVENT

END:VCALENDAR
