BEGIN:VCALENDAR
VERSION:2.0
PRODID:-//ChamberMaster//Event Calendar 2.0//EN
METHOD:PUBLISH
X-PUBLISHED-TTL:P3D
REFRESH-INTERVAL:P3D
CALSCALE:GREGORIAN
BEGIN:VEVENT
DTSTART:20260509T190000Z
DTEND:20260510T000000Z
X-MICROSOFT-CDO-ALLDAYEVENT:FALSE
SUMMARY:HarborWalk Village's Wellness at the Water
DESCRIPTION:Disclaimer: We are promoting this event on behalf of a local chamber member. This event is not managed or sponsored by the Destin Chamber.\n\n\n\nIntroducing Wellness at the Water\, a celebration of women\, wellness\, and connection right here on the Destin Harbor!\n\n\n\nJust before Mother's Day\, Harborwalk Village is hosting an uplifting afternoon designed to help you reset\, recharge\, and celebrate the women in your life. Whether you're bringing your mom\, your best friend\, your daughter\, or simply treating yourself - this one is for YOU! \n\n\n\nCheck-in begins at 1:30 PM with the event kicking off promptly at 2 PM with a grounding welcome stretch on the lawn. From there\, flow through a beautiful afternoon of curated wellness experiences designed to inspire strength\, self-care\, and intentional living.\n\n\n\nHere's what's waiting for you:\n\n     Wellness Zones throughout the village featuring movement sessions\, mini spa experiences\, mindful activities\, and relaxation spaces\n\n  Empowerment Talks from inspiring speakers and wellness partners\n\n  Light Bites\, cocktails & mocktails to keep you fueled and refreshed\n\n   Boutique Wellness Vendors offering herbal products\, jewelry\, self-care goods\, and wellness inspired finds\n\n  Sunset Yoga to close out the afternoon in the most breathtaking way possible\n\n\n\nGeneral Admission guests will enjoy a beautiful sunset yoga session on the lawn overlooking the harbor.\n\n\n\nVIP guests get something extra special\, a private sunset yoga experience on the Emerald Grande's private beach\, accessed via a private boat shuttle. Now that's a Mother's Day moment.    \n\n\n\nAdditional speakers\, wellness partners\, and experiences will be announced soon... stay tuned!\n\n  Friday\, May 9\n\n  Check-in: 1:30 PM | Event: 2:00 PM   7:00 PM\n\n  Harborwalk Village\n\n  General Admission & VIP tickets available\n\n\n\nComfortable activewear recommended. Bring your yoga mat if you have one\, a limited number may be available at the event.
X-ALT-DESC;FMTTYPE=text/html:<em>Disclaimer: We are promoting this event on behalf of a local chamber member. This event is not managed or sponsored by the Destin Chamber.</em><br />\n<br />\nIntroducing Wellness at the Water\, a celebration of women\, wellness\, and connection right here on the Destin Harbor!<br />\n<br />\nJust before Mother&rsquo\;s Day\, Harborwalk Village is hosting an uplifting afternoon designed to help you reset\, recharge\, and celebrate the women in your life. Whether you&rsquo\;re bringing your mom\, your best friend\, your daughter\, or simply treating yourself - this one is for YOU!&#128155\;<br />\n<br />\nCheck-in begins at 1:30 PM with the event kicking off promptly at 2 PM with a grounding welcome stretch on the lawn. From there\, flow through a beautiful afternoon of curated wellness experiences designed to inspire strength\, self-care\, and intentional living.<br />\n<br />\nHere&rsquo\;s what&rsquo\;s waiting for you:<br />\n&#129496\;&zwj\;&#9792\;&#65039\; Wellness Zones throughout the village featuring movement sessions\, mini spa experiences\, mindful activities\, and relaxation spaces<br />\n&#128170\; Empowerment Talks from inspiring speakers and wellness partners<br />\n&#129367\; Light Bites\, cocktails &amp\; mocktails to keep you fueled and refreshed<br />\n&#128717\;&#65039\; Boutique Wellness Vendors offering herbal products\, jewelry\, self-care goods\, and wellness inspired finds<br />\n&#127749\; Sunset Yoga to close out the afternoon in the most breathtaking way possible<br />\n<br />\nGeneral Admission guests will enjoy a beautiful sunset yoga session on the lawn overlooking the harbor.<br />\n<br />\nVIP guests get something extra special\, a private sunset yoga experience on the Emerald Grande&rsquo\;s private beach\, accessed via a private boat shuttle. Now that&rsquo\;s a Mother&rsquo\;s Day moment. &#128741\;&#65039\;&#10024\;<br />\n<br />\nAdditional speakers\, wellness partners\, and experiences will be announced soon... stay tuned!<br />\n&#128467\; Friday\, May 9<br />\n&#9200\; Check-in: 1:30 PM | Event: 2:00 PM &ndash\; 7:00 PM<br />\n&#128205\; Harborwalk Village<br />\n<a href="https://www.eventbrite.com/e/wellness-at-the-water-a-celebration-of-women-mothers-tickets-1984771629372" target="_blank">&#127903\; General Admission &amp\; VIP tickets available</a><br />\n<br />\nComfortable activewear recommended. Bring your yoga mat if you have one\, a limited number may be available at the event.&nbsp\;
LOCATION:HarborWalk Village 10 Harbor Blvd. Destin\, FL 32541
UID:e.2440.60756
SEQUENCE:3
DTSTAMP:20260419T173222Z
URL:https://business.destinchamber.com/events/details/harborwalk-village-s-wellness-at-the-water-60756
END:VEVENT

END:VCALENDAR
