BEGIN:VCALENDAR
VERSION:2.0
PRODID:-//ChamberMaster//Event Calendar 2.0//EN
METHOD:PUBLISH
X-PUBLISHED-TTL:P3D
REFRESH-INTERVAL:P3D
CALSCALE:GREGORIAN
BEGIN:VEVENT
DTSTART:20260512T163000Z
DTEND:20260512T173000Z
X-MICROSOFT-CDO-ALLDAYEVENT:FALSE
SUMMARY:Google NotebookLM – Learn AI with Jenni Arnold
DESCRIPTION:Disclaimer: We are promoting this event on behalf of a local chamber member. This event is not managed or sponsored by the Destin Chamber.\n\n\n\nAre you ready to transform the way you interact with your documents\, notes\, and data?\n\nJoin us for an immersive\, hands-on webinar where we will explore the game-changing capabilities of Google's NotebookLM. Far more than just a chatbot\, NotebookLM is an AI-powered personalized research assistant that anchors itself exclusively to the information you provide\, making it the ultimate tool for accuracy\, creativity\, and productivity.\n\nWhether you are a marketer\, content creator\, researcher\, or business professional\, this session will show you how to leverage AI to drastically reduce your workload and elevate your final output.\n\nWhat You Will Learn:\n\nIn this live demonstration\, we will walk you through practical\, real-world workflows\, including:\n\n\n	Supercharging Your Research: Learn how to instantly synthesize massive amounts of data\, ask complex questions\, and generate precise citations without the hallucination risks of standard AI models.\n	Creating Engaging Podcasts & Audio: Discover how to use NotebookLM's groundbreaking "Audio Overview" feature to turn dry source material into engaging\, conversational podcast episodes.\n	Scripting for Videos & Presentations: Watch how to transform raw notes and research into compelling video scripts and well-structured presentation outlines in seconds.\n	Designing Infographics: Learn how to extract key statistics\, themes\, and bullet points from your sources to seamlessly feed into your infographic design tools.\n	Elevating Your Marketing: See how to train the AI on your brand guidelines and product specs to generate highly targeted marketing copy\, campaign ideas\, and social media content.\n\n\nWho Should Attend?\n\n\n	Content Creators & Marketers looking to scale their multimedia output.\n	Researchers & Students needing a smarter way to organize and synthesize information.\n	Entrepreneurs & Professionals wanting to leverage AI to save time and boost productivity.\n\n\nReserve your spot today and get ready to level up your workflow with the power of AI!
X-ALT-DESC;FMTTYPE=text/html:<p><span style="font-size:16px\;"><span style="font-family:arial\;"><em>Disclaimer: We are promoting this event on behalf of a local chamber member. This event is not managed or sponsored by the Destin Chamber.</em><br />\n<br />\nAre you ready to transform the way you interact with your documents\, notes\, and data?</span></span></p>\n\n<p><span style="font-size:16px\;"><span style="font-family: arial\;">Join us for an immersive\, hands-on webinar where we will explore the game-changing capabilities of Google&rsquo\;s NotebookLM. Far more than just a chatbot\, NotebookLM is an AI-powered personalized research assistant that anchors itself exclusively to the information&nbsp\;</span><em style="font-family: arial\; font-size: 14px\;">you</em><span style="font-family: arial\;">&nbsp\;provide\, making it the ultimate tool for accuracy\, creativity\, and productivity.</span></span></p>\n\n<p><span style="font-size:16px\;"><span style="font-family: arial\;">Whether you are a marketer\, content creator\, researcher\, or business professional\, this session will show you how to leverage AI to drastically reduce your workload and elevate your final output.</span></span></p>\n\n<p><span style="font-size:16px\;"><span style="font-family: arial\;">What You Will Learn:</span></span></p>\n\n<p><span style="font-size:16px\;"><span style="font-family:arial\;">In this live demonstration\, we will walk you through practical\, real-world workflows\, including:</span></span></p>\n\n<ul>\n	<li><span style="font-size:16px\;"><span style="font-family:arial\;">Supercharging Your Research:&nbsp\;Learn how to instantly synthesize massive amounts of data\, ask complex questions\, and generate precise citations without the hallucination risks of standard AI models.</span></span></li>\n	<li><span style="font-size:16px\;"><span style="font-family:arial\;">Creating Engaging Podcasts &amp\; Audio:&nbsp\;Discover how to use NotebookLM&#39\;s groundbreaking &quot\;Audio Overview&quot\; feature to turn dry source material into engaging\, conversational podcast episodes.</span></span></li>\n	<li><span style="font-size:16px\;"><span style="font-family:arial\;">Scripting for Videos &amp\; Presentations:&nbsp\;Watch how to transform raw notes and research into compelling video scripts and well-structured presentation outlines in seconds.</span></span></li>\n	<li><span style="font-size:16px\;"><span style="font-family:arial\;">Designing Infographics:&nbsp\;Learn how to extract key statistics\, themes\, and bullet points from your sources to seamlessly feed into your infographic design tools.</span></span></li>\n	<li><span style="font-size:16px\;"><span style="font-family:arial\;">Elevating Your Marketing:&nbsp\;See how to train the AI on your brand guidelines and product specs to generate highly targeted marketing copy\, campaign ideas\, and social media content.</span></span></li>\n</ul>\n\n<h3><span style="font-size:16px\;"><span style="font-family:arial\;">Who Should Attend?</span></span></h3>\n\n<ul>\n	<li><span style="font-size:16px\;"><span style="font-family:arial\;">Content Creators &amp\; Marketers&nbsp\;looking to scale their multimedia output.</span></span></li>\n	<li><span style="font-size:16px\;"><span style="font-family:arial\;">Researchers &amp\; Students&nbsp\;needing a smarter way to organize and synthesize information.</span></span></li>\n	<li><span style="font-size:16px\;"><span style="font-family:arial\;">Entrepreneurs &amp\; Professionals&nbsp\;wanting to leverage AI to save time and boost productivity.</span></span></li>\n</ul>\n\n<p><span style="font-size:16px\;"><span style="font-family:arial\;">Reserve your spot today and get ready to level up your workflow with the power of AI!</span></span></p>\n
LOCATION:Webinar
UID:e.2440.60766
SEQUENCE:3
DTSTAMP:20260419T172801Z
URL:https://business.destinchamber.com/events/details/google-notebooklm-learn-ai-with-jenni-arnold-60766
END:VEVENT

END:VCALENDAR
