BEGIN:VCALENDAR
VERSION:2.0
PRODID:-//ChamberMaster//Event Calendar 2.0//EN
METHOD:PUBLISH
X-PUBLISHED-TTL:P3D
REFRESH-INTERVAL:P3D
CALSCALE:GREGORIAN
BEGIN:VEVENT
DTSTART:20220603T140000Z
DTEND:20220603T170000Z
X-MICROSOFT-CDO-ALLDAYEVENT:FALSE
SUMMARY:Florida SBDC at UWF Presents “Starting a Business”
DESCRIPTION:You have an idea for a business. Now what?  Take the first step with the Florida SBDC's "Starting a Business" workshop on June 3rd from 9:00 a.m.   12:00 p.m. In this session\, we will discuss the nuts and bolts of launching your new venture\, including how to determine feasibility and legal structures\, licensing and permitting\, funding options for your business and basic marketing strategies to help you get started! Location: Greater Pensacola Chamber of Commerce\, 418 W. Garden St.\, Pensacola\, FL 32501. Fee: $50. To register\, visit our website at www.sbdc.uwf.edu and click on "Training & Events".  Presented by Christa Wilson\, Assistant Director\, Florida SBDC at UWF
X-ALT-DESC;FMTTYPE=text/html:<span style="font-size:14px\;"><span style="font-family:arial\;"><span style="color:black\;">You have an idea for a business. Now what?&nbsp\; </span>Take the first step with the Florida SBDC&rsquo\;s &ldquo\;Starting a Business&rdquo\; workshop on June 3<sup>rd</sup> from 9:00 a.m. &ndash\; 12:00 p.m. <span style="color:black\;">In this session\, we will discuss&nbsp\;the nuts and bolts of launching your new venture\, including&nbsp\;how to determine feasibility and legal structures\, licensing and permitting\,&nbsp\;funding options for your business and basic marketing strategies to help you get started! </span>Location: Greater Pensacola Chamber of Commerce\, 418 W. Garden St.\, Pensacola\, FL 32501<span style="color:#202124\;">. </span><span style="color:black\;">Fee: $50. </span>To register\, visit our website at <a href="http://www.sbdc.uwf.edu">www.sbdc.uwf.edu</a> and click on &ldquo\;Training &amp\; Events&rdquo\;.&nbsp\; Presented by Christa Wilson\, Assistant Director\, Florida SBDC at UWF</span></span>
LOCATION:Greater Pensacola Chamber of Commerce 418 W. Garden St.\, Pensacola\, FL 32501
UID:e.2440.49101
SEQUENCE:3
DTSTAMP:20260420T185730Z
URL:https://business.destinchamber.com/events/details/florida-sbdc-at-uwf-presents-starting-a-business-49101
END:VEVENT

END:VCALENDAR
