BEGIN:VCALENDAR
VERSION:2.0
PRODID:-//ChamberMaster//Event Calendar 2.0//EN
METHOD:PUBLISH
X-PUBLISHED-TTL:P3D
REFRESH-INTERVAL:P3D
CALSCALE:GREGORIAN
BEGIN:VEVENT
DTSTART:20260408T130000Z
DTEND:20260408T170000Z
X-MICROSOFT-CDO-ALLDAYEVENT:FALSE
SUMMARY:Florida Panhandle Subcontracting Connections
DESCRIPTION:Disclaimer: We are promoting this event on behalf of a local chamber member. This event is not managed or sponsored by the Destin Chamber.\n\n\n\nUnlock Your Next Major Project\n\nAre you a subcontractor looking to scale your business and navigate the complexities of government contracting? Join the Florida APEX Accelerator at UWF for a game-changing opportunity to bridge the gap between your aspirations and your next big contract.\n\n \n\nThe Florida Panhandle Subcontracting Connections event is specifically designed to bypass traditional barriers and give local subcontractors direct access to the decision-makers who drive the region's economy. Whether you specialize in construction\, professional services\, or technical support\, this event is your gateway to the Florida Panhandle's most lucrative procurement opportunities.\n\n \n\nWhy You Should Attend:\n\n\n	Hear from the Experts: Get direct briefings from key decision-makers at Eglin AFB\, Hurlburt Field\, and local county purchasing offices regarding their upcoming project pipelines and requirements.\n	Face-to-Face Networking: Meet one-on-one with leading Prime Contractors who are actively seeking qualified\, reliable subcontractors to fulfill mission-critical contracts.\n	Insider Strategies: Learn the "rules of engagement" for successful Prime-Sub partnerships and how to position your business as the preferred choice for major government projects.\n	Discover Opportunities: Gain a first-look at upcoming regional subcontracting forecasts and learn how to navigate the procurement procedures of local and federal agencies.\n\n\nTarget Audience:\n\nThis event is a must-attend for small business owners and subcontractors in the Northwest Florida region who are ready to compete for federal\, state\, and local government contracts.\n\n \n\nRegistration:\n\nSeats for this high-demand event are limited to ensure quality networking time. Secure your spot today and take the next step in strengthening America's industrial base right here in the Florida Panhandle.\n\n \n\nEvent Agenda:\n\n\n	8:00 AM - 9:00 AM: Presentations\n\n	\n		Florida APEX Accelerator Team\n		Small Business Office\, Eglin AFB\n		1st Special Operations Contracting Squadron\, Hurlburt\, FL\n		SLED Contracting Officer\n	\n	\n	09:00 AM - 12:00 PM: Business Networking
X-ALT-DESC;FMTTYPE=text/html:<h3><em>Disclaimer: We are promoting this event on behalf of a local chamber member. This event is not managed or sponsored by the Destin Chamber.</em><br />\n<br />\n<span style="font-size:16px">Unlock Your Next Major Project</span></h3>\n\n<p><span style="font-size:16px">Are you a subcontractor looking to scale your business and navigate the complexities of government contracting? Join the&nbsp\;</span><span style="font-size:16px">Florida APEX Accelerator at UWF</span><span style="font-size:16px">&nbsp\;for a game-changing opportunity to bridge the gap between your aspirations and your next big contract.</span></p>\n\n<p>&nbsp\;</p>\n\n<p><span style="font-size:16px">The&nbsp\;</span><span style="font-size:16px">Florida Panhandle Subcontracting Connections</span><span style="font-size:16px">&nbsp\;event is specifically designed to bypass traditional barriers and give local subcontractors direct access to the decision-makers who drive the region&#39\;s economy. Whether you specialize in construction\, professional services\, or technical support\, this event is your gateway to the Florida Panhandle&#39\;s most lucrative procurement opportunities.</span></p>\n\n<p>&nbsp\;</p>\n\n<h3><span style="font-size:16px">Why You Should Attend:</span></h3>\n\n<ul>\n	<li><span style="font-size:16px">Hear from the Experts:</span><span style="font-size:16px">&nbsp\;Get direct briefings from key decision-makers at&nbsp\;</span><span style="font-size:16px">Eglin AFB</span><span style="font-size:16px">\,&nbsp\;</span><span style="font-size:16px">Hurlburt Field</span><span style="font-size:16px">\, and&nbsp\;</span><span style="font-size:16px">local county purchasing offices</span><span style="font-size:16px">&nbsp\;regarding their upcoming project pipelines and requirements.</span></li>\n	<li><span style="font-size:16px">Face-to-Face Networking:</span><span style="font-size:16px">&nbsp\;Meet one-on-one with leading Prime Contractors who are actively seeking qualified\, reliable subcontractors to fulfill mission-critical contracts.</span></li>\n	<li><span style="font-size:16px">Insider Strategies:</span><span style="font-size:16px">&nbsp\;Learn the &quot\;rules of engagement&quot\; for successful Prime-Sub partnerships and how to position your business as the preferred choice for major government projects.</span></li>\n	<li><span style="font-size:16px">Discover Opportunities:</span><span style="font-size:16px">&nbsp\;Gain a first-look at upcoming regional subcontracting forecasts and learn how to navigate the procurement procedures of local and federal agencies.</span></li>\n</ul>\n\n<h3><span style="font-size:16px">Target Audience:</span></h3>\n\n<p><span style="font-size:16px">This event is a must-attend for small business owners and subcontractors in the Northwest Florida region who are ready to compete for federal\, state\, and local government contracts.</span></p>\n\n<p>&nbsp\;</p>\n\n<h3><span style="font-size:16px">Registration:</span></h3>\n\n<p><span style="font-size:16px">Seats for this high-demand event are limited to ensure quality networking time. Secure your spot today and take the next step in strengthening America&rsquo\;s industrial base right here in the Florida Panhandle.</span></p>\n\n<p>&nbsp\;</p>\n\n<p><span style="font-size:16px">Event Agenda</span><span style="font-size:16px">:</span></p>\n\n<ul>\n	<li><span style="font-size:16px">8:00 AM - 9:00 AM: Presentations</span>\n\n	<ul>\n		<li><span style="font-size:16px">Florida APEX Accelerator Team</span></li>\n		<li><span style="font-size:16px">Small Business Office\, Eglin AFB</span></li>\n		<li><span style="font-size:16px">1st Special Operations Contracting Squadron\, Hurlburt\, FL</span></li>\n		<li><span style="font-size:16px">SLED Contracting Officer</span></li>\n	</ul>\n	</li>\n	<li><span style="font-size:16px">09:00 AM - 12:00 PM: Business Networking</span></li>\n</ul>\n
LOCATION:Santa Rosa County Auditorium\, 4530 Spikes Way\, Milton\, FL\, 32583\, United States
UID:e.2440.60495
SEQUENCE:3
DTSTAMP:20260419T154904Z
URL:https://business.destinchamber.com/events/details/florida-panhandle-subcontracting-connections-60495
END:VEVENT

END:VCALENDAR
