BEGIN:VCALENDAR
VERSION:2.0
PRODID:-//ChamberMaster//Event Calendar 2.0//EN
METHOD:PUBLISH
X-PUBLISHED-TTL:P3D
REFRESH-INTERVAL:P3D
CALSCALE:GREGORIAN
BEGIN:VEVENT
DTSTART:20260610T213000Z
DTEND:20260610T220000Z
X-MICROSOFT-CDO-ALLDAYEVENT:FALSE
SUMMARY:Botanic Miramar Beach Apartments Ribbon Cutting
DESCRIPTION:Please help us celebrate Botanic Miramar Beach Apartments with a ribbon cutting!\n\n \n\nBotanic Miramar Beach offers brand new\, luxury apartments with spacious one-\, two-\, and three-bedroom floorplans\, designed with open layouts that are perfect for everything from quiet evenings to lively movie nights. Enjoy cooking in your modern kitchen featuring stainless steel appliances\, sleek finishes\, and stylish pendant lighting.\n\n \n\nResidents enjoy a world of upscale amenities. Take a dip in the sparkling saltwater pool with Wi-Fi access for poolside relaxation\, or challenge neighbors in the golf bay. Unwind with a coffee in the clubhouse game room\, or stay fit in the 24-hour fitness center and yoga room. Need to focus? Private offices and a cyber lounge make working from home easy and productive. Book a Tour today and discover your new home at Botanic Miramar Beach Apartments. Visit LiveBotanic.com to learn more.
X-ALT-DESC;FMTTYPE=text/html:Please help us celebrate <strong>Botanic Miramar Beach Apartments</strong> with a ribbon cutting!<br />\n&nbsp\;<br />\nBotanic Miramar Beach offers brand new\, luxury apartments with spacious one-\, two-\, and three-bedroom floorplans\, designed with open layouts that are perfect for everything from quiet evenings to lively movie nights. Enjoy cooking in your modern kitchen featuring stainless steel appliances\, sleek finishes\, and stylish pendant lighting.<br />\n&nbsp\;<br />\nResidents enjoy a world of upscale amenities. Take a dip in the sparkling saltwater pool with Wi-Fi access for poolside relaxation\, or challenge neighbors in the golf bay. Unwind with a coffee in the clubhouse game room\, or stay fit in the 24-hour fitness center and yoga room. Need to focus? Private offices and a cyber lounge make working from home easy and productive. Book a Tour today and discover your new home at Botanic Miramar Beach Apartments. Visit <a href="http://LiveBotanic.com" target="_blank">LiveBotanic.com</a> to learn more.
LOCATION:Botanic Miramar Beach Apartments 225 Botanic Way Miramar Beach\, FL 32550
UID:e.2440.60770
SEQUENCE:3
DTSTAMP:20260419T193045Z
URL:https://business.destinchamber.com/events/details/botanic-miramar-beach-apartments-ribbon-cutting-60770
END:VEVENT

END:VCALENDAR
