BEGIN:VCALENDAR
VERSION:2.0
PRODID:-//ChamberMaster//Event Calendar 2.0//EN
METHOD:PUBLISH
X-PUBLISHED-TTL:P3D
REFRESH-INTERVAL:P3D
CALSCALE:GREGORIAN
BEGIN:VEVENT
DTSTART:20260515T150000Z
DTEND:20260516T170000Z
X-MICROSOFT-CDO-ALLDAYEVENT:FALSE
SUMMARY:23rd Annual Bob Hope Memorial Charity Golf Classic
DESCRIPTION:Disclaimer: We are promoting this event on behalf of a local chamber member. This event is not managed or sponsored by the Destin Chamber.\n\n\n\nNow in its 23rd year\, the Bob Hope Memorial Charity Golf Classic is a major local fundraising event for the Air Force Enlisted Village that raises critical funds to support our mission of providing a home for surviving spouses of retired enlisted U.S. Air Force personnel who reside at our independent living community\, Bob Hope Village\, and at our assisted living and memory care facility\, Hawthorn House.\n\nA Kickoff Party with food\, beverages\, and a live auction will be held Thursday\, May 14\, 2026\, starting at 5:30 p.m. at the Bob Hope Village Community Center ballroom. \n\nThe format is 4-person Captain's Choice\, and we'll play the newly renovated Pines course. Bonus packages will be sold during check-in on May 15\, 2026. The event will also include chance drawings and a silent auction. \n\nGolfers have the opportunity to win over $25\,000 in prizes in the following contests:\n\n\n	1st\, 2nd\, 3rd Place Teams in A-B-C Flights (teams will be flighted based on Day 1 scores)\n	Hole in One\n	Longest Drive\n	Closest to the Pin\n\n\nSponsorships are available now. Individual golf spots open on Mar 2\, 2026.\n\nSUPPORT TODAY!
X-ALT-DESC;FMTTYPE=text/html:<p><em>Disclaimer: We are promoting this event on behalf of a local chamber member. This event is not managed or sponsored by the Destin Chamber.</em><br />\n<br />\n<span style="font-size:14px"><span style="font-family:arial\,helvetica\,sans-serif">Now in its 23rd year\, the Bob Hope Memorial Charity Golf Classic is a major&nbsp\;local&nbsp\;fundraising event for the&nbsp\;<a href="https://www.afev.us/" style="box-sizing: border-box\; color: rgb(31\, 108\, 20)\;">Air Force Enlisted Village</a>&nbsp\;that raises critical funds to support our mission of providing a home for surviving spouses of retired enlisted U.S. Air Force personnel who reside at our independent living community\,&nbsp\;<a href="https://www.afev.us/bob-hope-village/" style="box-sizing: border-box\; color: rgb(31\, 108\, 20)\;">Bob Hope Village</a>\, and at our assisted living and memory care facility\,&nbsp\;<a href="https://www.afev.us/hawthorn-house" style="box-sizing: border-box\; color: rgb(31\, 108\, 20)\;">Hawthorn House</a>.</span></span></p>\n\n<p><span style="font-size:14px"><span style="font-family:arial\,helvetica\,sans-serif">A Kickoff Party with food\, beverages\, and a live auction will be held Thursday\, May 14\, 2026\, starting at 5:30 p.m. at the Bob Hope Village Community Center ballroom.&nbsp\;</span></span></p>\n\n<p><span style="font-size:14px"><span style="font-family:arial\,helvetica\,sans-serif">The format is 4-person Captain&#39\;s Choice\, and we&#39\;ll play the newly renovated Pines course. Bonus packages will be sold during check-in on May 15\, 2026.&nbsp\;The event will also include chance drawings and a silent auction.&nbsp\;</span></span></p>\n\n<p><span style="font-size:14px"><span style="font-family:arial\,helvetica\,sans-serif">Golfers have the opportunity to win over $25\,000 in prizes in the following contests:</span></span></p>\n\n<ul>\n	<li><span style="font-size:14px"><span style="font-family:arial\,helvetica\,sans-serif">1st\, 2nd\, 3rd Place Teams in A-B-C Flights (teams will be flighted based on Day 1 scores)</span></span></li>\n	<li><span style="font-size:14px"><span style="font-family:arial\,helvetica\,sans-serif">Hole in One</span></span></li>\n	<li><span style="font-size:14px"><span style="font-family:arial\,helvetica\,sans-serif">Longest Drive</span></span></li>\n	<li><span style="font-size:14px"><span style="font-family:arial\,helvetica\,sans-serif">Closest to the Pin</span></span></li>\n</ul>\n\n<p><span style="font-size:14px"><span style="font-family:arial\,helvetica\,sans-serif">Sponsorships are available now. Individual golf spots open on Mar 2\, 2026.</span></span></p>\n\n<h2 style="font-style:italic"><a href="https://afev.us/golf"><span style="font-size:20px"><strong><span style="font-family:arial\,helvetica\,sans-serif">SUPPORT TODAY!</span></strong></span></a></h2>\n
LOCATION:Ft Walton Beach Golf Club 1955 Lewis Turner Blvd Ft Walton Beach\, FL 32547
UID:e.2440.60451
SEQUENCE:3
DTSTAMP:20260419T175949Z
URL:https://business.destinchamber.com/events/details/23rd-annual-bob-hope-memorial-charity-golf-classic-05-15-2026-60451
END:VEVENT

END:VCALENDAR
